BEGIN:VCALENDAR
VERSION:2.0
PRODID:icalendar-ruby
CALSCALE:GREGORIAN
METHOD:PUBLISH
BEGIN:VEVENT
DTSTAMP:20260424T155953Z
UID:161-250446@pathwaylife.tithelysetup5.com
DTSTART:20260521T230000Z
DTEND:20260522T003000Z
CLASS:PUBLIC
CREATED:20260423T194524
DESCRIPTION:DEEPER: Worship Night at Pathway Church\nCome for an evening of
  worship that’s more than music—it’s a chance to linger with God. We
 ’re creating space to go deeper: unhurried songs\, prayer\, and reflecti
 on that help us respond to who He is and what He’s doing in us. If you
 ’re weary\, hungry\, curious\, or grateful\, there’s room for you here
 . Come expectant—ready to worship\, receive\, and be renewed.\nPlease no
 te: There will be no childcare provided\, but the nursery will be open for
  parents who need a space for little ones\, with a live video feed availab
 le so you won’t miss the service.
LAST-MODIFIED:20260423T194524
LOCATION:3948 Wallace Point Road
SUMMARY:Deeper
URL;VALUE=URI:https://www.pathwaylife.com/events/deeper/2026-05-21
ATTACH;FILENAME=Deeper - Worship Night.jpg;FMTTYPE=image/jpeg:https://dq5pw
 pg1q8ru0.cloudfront.net/2026/02/02/19/05/36/ca14fe2e-e70a-4edb-97f2-b8cfe8
 82257a/Deeper%20-%20Worship%20Night.jpg
END:VEVENT
END:VCALENDAR
