BEGIN:VCALENDAR
VERSION:2.0
PRODID:icalendar-ruby
CALSCALE:GREGORIAN
METHOD:PUBLISH
BEGIN:VEVENT
DTSTAMP:20260423T150902Z
UID:158-248603@pathwaylife.tithelysetup5.com
DTSTART:20260613T130000Z
DTEND:20260613T200000Z
CLASS:PUBLIC
CREATED:20260422T151324
DESCRIPTION:Peterborough’s Dragon Boat Festival is a high-energy paddling
  competition supporting cancer care at Peterborough Regional Health Centre
 . Each year\, Pathway Church joins in by sending a youth team to race and 
 by serving the community through our Family Fun Zone.\nWhether you’re on
  the water or cheering from the shore\, there are meaningful ways to be pa
 rt of this day.\n Donate\nScroll down to learn how you can join the Pathwa
 y Dragon Boat team on the water or volunteer at our Fun Zone tent! Fun Zon
 e details coming soon!
LAST-MODIFIED:20260422T151324
LOCATION:Del Crary Park
SUMMARY:Pathway at Dragon Boat Festival
URL;VALUE=URI:https://www.pathwaylife.com/events/pathway-at-dragon-boat-fes
 tival/2026-06-13
ATTACH;FILENAME=dragon-boat-team.jpg;FMTTYPE=image/jpeg:https://dq5pwpg1q8r
 u0.cloudfront.net/2025/05/20/21/12/39/500865ee-cba4-465f-8747-339daec9f4ea
 /dragon-boat-team.jpg
END:VEVENT
END:VCALENDAR
