BEGIN:VCALENDAR
VERSION:2.0
PRODID:icalendar-ruby
CALSCALE:GREGORIAN
METHOD:PUBLISH
BEGIN:VEVENT
DTSTAMP:20260423T110132Z
UID:152-249442@pathwaylife.tithelysetup5.com
DTSTART:20261004T131500Z
DTEND:20261004T143000Z
CLASS:PUBLIC
CREATED:20260423T064747
DESCRIPTION:You’re Invited to Join Us This Sunday!\nEvery Sunday\, we gat
 her to worship\, learn\, and grow together in community. Our services incl
 ude inspiring worship\, practical and Biblically grounded teaching\, and a
  place for all ages to connect. Come as you are—we’d love to see you t
 his Sunday!\nIs this your first time visiting us? Plan your visit.
LAST-MODIFIED:20260423T064747
LOCATION:3948 Wallace Point Road
SUMMARY:Sunday Service
URL;VALUE=URI:https://www.pathwaylife.com/events/sunday-service--151/2026-1
 0-04
ATTACH;FILENAME=Sunday Service.jpg;FMTTYPE=image/jpeg:https://dq5pwpg1q8ru0
 .cloudfront.net/2025/04/26/04/11/46/9fad4f42-d0f0-46b4-9eed-fdd854cce632/S
 unday%20Service.jpg
END:VEVENT
END:VCALENDAR
